BEGIN:VCALENDAR
VERSION:2.0
PRODID:-//wijkwerkingboskant.be - ECPv6.15.20//NONSGML v1.0//EN
CALSCALE:GREGORIAN
METHOD:PUBLISH
X-WR-CALNAME:wijkwerkingboskant.be
X-ORIGINAL-URL:https://wijkwerkingboskant.be
X-WR-CALDESC:Events voor wijkwerkingboskant.be
REFRESH-INTERVAL;VALUE=DURATION:PT1H
X-Robots-Tag:noindex
X-PUBLISHED-TTL:PT1H
BEGIN:VTIMEZONE
TZID:UTC
BEGIN:STANDARD
TZOFFSETFROM:+0000
TZOFFSETTO:+0000
TZNAME:UTC
DTSTART:20230101T000000
END:STANDARD
END:VTIMEZONE
BEGIN:VEVENT
DTSTART;TZID=UTC:20240106T140000
DTEND;TZID=UTC:20240106T160000
DTSTAMP:20260423T002325
CREATED:20231027T085416Z
LAST-MODIFIED:20231027T085416Z
UID:672-1704549600-1704556800@wijkwerkingboskant.be
SUMMARY:Nieuwjaarsreceptie wijkwerking Boskant
DESCRIPTION:Net zoals voorgaande jaren organiseren we weer onze nieuwjaarsreceptie. Kom genieten van een gratis hapje en drankje en maak kennis met je mede wijkbewoners.
URL:https://wijkwerkingboskant.be/activiteit/nieuwjaarsreceptie-wijkwerking-boskant/
LOCATION:Kievitplein\, Kievitplein\, Leopoldsburg\, 3970\, Belgium
CATEGORIES:Activiteiten,nieuwjaarsreceptie
ORGANIZER;CN="Wijkwerking Boskant":MAILTO:info@wijkwerkingboskant.be
END:VEVENT
END:VCALENDAR