BEGIN:VCALENDAR
VERSION:2.0
PRODID:-//wijkwerkingboskant.be - ECPv6.15.20//NONSGML v1.0//EN
CALSCALE:GREGORIAN
METHOD:PUBLISH
X-WR-CALNAME:wijkwerkingboskant.be
X-ORIGINAL-URL:https://wijkwerkingboskant.be
X-WR-CALDESC:Events voor wijkwerkingboskant.be
REFRESH-INTERVAL;VALUE=DURATION:PT1H
X-Robots-Tag:noindex
X-PUBLISHED-TTL:PT1H
BEGIN:VTIMEZONE
TZID:UTC
BEGIN:STANDARD
TZOFFSETFROM:+0000
TZOFFSETTO:+0000
TZNAME:UTC
DTSTART:20220101T000000
END:STANDARD
END:VTIMEZONE
BEGIN:VEVENT
DTSTART;TZID=UTC:20230722T130000
DTEND;TZID=UTC:20230722T190000
DTSTAMP:20260420T024445
CREATED:20230118T125229Z
LAST-MODIFIED:20230621T040306Z
UID:336-1690030800-1690052400@wijkwerkingboskant.be
SUMMARY:BBQ wijkwerking Boskant
DESCRIPTION:Kom genieten van een lekker stukje vlees\, lekkere verse groenten en een fris drankje op onze jaarlijkse BBQ wijkwerking Boskant.
URL:https://wijkwerkingboskant.be/activiteit/bbq-wijkwerking-boskant/
LOCATION:MKOK\, burkelstraat\, Leopoldsburg\, 3970\, Belgium
CATEGORIES:Activiteiten,eetdag
ORGANIZER;CN="Wijkwerking Boskant":MAILTO:info@wijkwerkingboskant.be
END:VEVENT
END:VCALENDAR