BEGIN:VCALENDAR
VERSION:2.0
PRODID:-//wijkwerkingboskant.be - ECPv6.15.20//NONSGML v1.0//EN
CALSCALE:GREGORIAN
METHOD:PUBLISH
X-ORIGINAL-URL:https://wijkwerkingboskant.be
X-WR-CALDESC:Events voor wijkwerkingboskant.be
REFRESH-INTERVAL;VALUE=DURATION:PT1H
X-Robots-Tag:noindex
X-PUBLISHED-TTL:PT1H
BEGIN:VTIMEZONE
TZID:Europe/Brussels
BEGIN:DAYLIGHT
TZOFFSETFROM:+0100
TZOFFSETTO:+0200
TZNAME:CEST
DTSTART:20230326T010000
END:DAYLIGHT
BEGIN:STANDARD
TZOFFSETFROM:+0200
TZOFFSETTO:+0100
TZNAME:CET
DTSTART:20231029T010000
END:STANDARD
BEGIN:DAYLIGHT
TZOFFSETFROM:+0100
TZOFFSETTO:+0200
TZNAME:CEST
DTSTART:20240331T010000
END:DAYLIGHT
BEGIN:STANDARD
TZOFFSETFROM:+0200
TZOFFSETTO:+0100
TZNAME:CET
DTSTART:20241027T010000
END:STANDARD
BEGIN:DAYLIGHT
TZOFFSETFROM:+0100
TZOFFSETTO:+0200
TZNAME:CEST
DTSTART:20250330T010000
END:DAYLIGHT
BEGIN:STANDARD
TZOFFSETFROM:+0200
TZOFFSETTO:+0100
TZNAME:CET
DTSTART:20251026T010000
END:STANDARD
BEGIN:DAYLIGHT
TZOFFSETFROM:+0100
TZOFFSETTO:+0200
TZNAME:CEST
DTSTART:20260329T010000
END:DAYLIGHT
BEGIN:STANDARD
TZOFFSETFROM:+0200
TZOFFSETTO:+0100
TZNAME:CET
DTSTART:20261025T010000
END:STANDARD
BEGIN:DAYLIGHT
TZOFFSETFROM:+0100
TZOFFSETTO:+0200
TZNAME:CEST
DTSTART:20270328T010000
END:DAYLIGHT
BEGIN:STANDARD
TZOFFSETFROM:+0200
TZOFFSETTO:+0100
TZNAME:CET
DTSTART:20271031T010000
END:STANDARD
END:VTIMEZONE
BEGIN:VEVENT
DTSTART;TZID=Europe/Brussels:20241031T180000
DTEND;TZID=Europe/Brussels:20241031T210000
DTSTAMP:20260423T002753
CREATED:20241003T173117Z
LAST-MODIFIED:20241003T173117Z
UID:1226-1730397600-1730408400@wijkwerkingboskant.be
SUMMARY:Halloweentocht Boskant 2024
DESCRIPTION:
URL:https://wijkwerkingboskant.be/activiteit/halloweentocht-boskant-2024/
ATTACH;FMTTYPE=image/jpeg:https://wijkwerkingboskant.be/wp-content/uploads/2024/09/colton-sturgeon-EFQlS6SL9uw-unsplash-scaled.jpg
ORGANIZER;CN="Wijkwerking Boskant":MAILTO:info@wijkwerkingboskant.be
END:VEVENT
BEGIN:VEVENT
DTSTART;TZID=Europe/Brussels:20241109T160000
DTEND;TZID=Europe/Brussels:20241109T210000
DTSTAMP:20260423T002753
CREATED:20240913T180030Z
LAST-MODIFIED:20240913T180431Z
UID:877-1731168000-1731186000@wijkwerkingboskant.be
SUMMARY:Kaas- en wijnavond
DESCRIPTION:Kom genieten van een lekkere kaas- of vleesschotel met een lekker glaasje wijn. Schuif je voeten onder tafel en wij zorgen voor de rest. Heb je geen tijd om even te passeren\, je kan ook gewoon komen afhalen. \n 
URL:https://wijkwerkingboskant.be/activiteit/kaas-en-wijnavond-2/
LOCATION:MKOK\, burkelstraat\, Leopoldsburg\, 3970\, Belgium
ORGANIZER;CN="Wijkwerking Boskant":MAILTO:info@wijkwerkingboskant.be
END:VEVENT
BEGIN:VEVENT
DTSTART;TZID=Europe/Brussels:20250104T140000
DTEND;TZID=Europe/Brussels:20250104T160000
DTSTAMP:20260423T002753
CREATED:20241210T132205Z
LAST-MODIFIED:20241210T132205Z
UID:1478-1735999200-1736006400@wijkwerkingboskant.be
SUMMARY:Nieuwjaarsreceptie wijkwerking Boskant
DESCRIPTION:Onze jaarlijkse nieuwjaarsreceptie gaat terug door op 4 januari van 14-16u. \nBelangrijk: het gaat dit jaar terug door op het pleintje aan de school
URL:https://wijkwerkingboskant.be/activiteit/nieuwjaarsreceptie-wijkwerking-boskant-2/
LOCATION:Plein aan school\, Kruispunt Corspelsesteenweg en Boskantstraat\, Leopoldsburg\, 3970\, Belgium
ATTACH;FMTTYPE=image/jpeg:https://wijkwerkingboskant.be/wp-content/uploads/2024/01/415985832_10227844534036343_1068627948723397954_n.jpg
ORGANIZER;CN="Wijkwerking Boskant":MAILTO:info@wijkwerkingboskant.be
END:VEVENT
BEGIN:VEVENT
DTSTART;TZID=Europe/Brussels:20251031T180000
DTEND;TZID=Europe/Brussels:20251031T210000
DTSTAMP:20260423T002753
CREATED:20250929T120123Z
LAST-MODIFIED:20250929T120123Z
UID:1683-1761933600-1761944400@wijkwerkingboskant.be
SUMMARY:Halloween wandeling 2025
DESCRIPTION:Meer info volgt nog
URL:https://wijkwerkingboskant.be/activiteit/halloween-wandeling-2025/
LOCATION:Wijk Boskant\, 3970\, Belgium
CATEGORIES:Halloween
ATTACH;FMTTYPE=image/jpeg:https://wijkwerkingboskant.be/wp-content/uploads/2024/09/colton-sturgeon-EFQlS6SL9uw-unsplash-scaled.jpg
ORGANIZER;CN="Wijkwerking Boskant":MAILTO:info@wijkwerkingboskant.be
END:VEVENT
BEGIN:VEVENT
DTSTART;TZID=Europe/Brussels:20251214T140000
DTEND;TZID=Europe/Brussels:20251214T210000
DTSTAMP:20260423T002753
CREATED:20241007T133232Z
LAST-MODIFIED:20250929T120259Z
UID:1261-1765720800-1765746000@wijkwerkingboskant.be
SUMMARY:Kerstmarkt 2025
DESCRIPTION:De wijkwerking Boskant neemt weer deel aan de kerstmarkt in Leopoldsburg centrum. Passeer zeker bij ons voor een lekker drankje\, een boterham met spek of verse erwtensoep.
URL:https://wijkwerkingboskant.be/activiteit/kerstmarkt/
LOCATION:Centrum Leopoldsburg\, 3970\, Belgium
END:VEVENT
BEGIN:VEVENT
DTSTART;TZID=Europe/Brussels:20260103T140000
DTEND;TZID=Europe/Brussels:20260103T160000
DTSTAMP:20260423T002753
CREATED:20251107T125410Z
LAST-MODIFIED:20251107T125410Z
UID:1757-1767448800-1767456000@wijkwerkingboskant.be
SUMMARY:Nieuwjaarsreceptie wijkwerking Boskant
DESCRIPTION:Net zoals de voorgaande jaren organiseren we weer een nieuwjaarsreceptie op het pleintje aan de school. Kom genieten van een hapje en een drankje met je buren.
URL:https://wijkwerkingboskant.be/activiteit/nieuwjaarsreceptie-wijkwerking-boskant-3/
LOCATION:Plein aan school\, Kruispunt Corspelsesteenweg en Boskantstraat\, Leopoldsburg\, 3970\, Belgium
CATEGORIES:nieuwjaarsreceptie
END:VEVENT
BEGIN:VEVENT
DTSTART;TZID=Europe/Brussels:20260718T130000
DTEND;TZID=Europe/Brussels:20260718T200000
DTSTAMP:20260423T002753
CREATED:20241227T192927Z
LAST-MODIFIED:20260129T190759Z
UID:1518-1784379600-1784404800@wijkwerkingboskant.be
SUMMARY:BBQ Wijkwerking 2026
DESCRIPTION:Save the date voor onze BBQ in MKOK. Deze gaat door op zaterdag 18 juli. \nWij zorgen weer voor vers eten en drank\, jullie voor de sfeer.
URL:https://wijkwerkingboskant.be/activiteit/bbq-wijkwerking-2026/
LOCATION:MKOK\, burkelstraat\, Leopoldsburg\, 3970\, Belgium
CATEGORIES:eetdag
ATTACH;FMTTYPE=image/jpeg:https://wijkwerkingboskant.be/wp-content/uploads/2023/08/IMG_20230722_133235-2-scaled.jpg
ORGANIZER;CN="Wijkwerking Boskant":MAILTO:info@wijkwerkingboskant.be
END:VEVENT
BEGIN:VEVENT
DTSTART;TZID=Europe/Brussels:20261107T160000
DTEND;TZID=Europe/Brussels:20261107T210000
DTSTAMP:20260423T002753
CREATED:20250908T122438Z
LAST-MODIFIED:20260129T191047Z
UID:1652-1794067200-1794085200@wijkwerkingboskant.be
SUMMARY:Kaas- en wijnavond
DESCRIPTION:Kom weer genieten van een lekkere kaas- of vleesschotel met een lekker glaasje wijn. \n 
URL:https://wijkwerkingboskant.be/activiteit/kaas-en-wijnavond-3/
LOCATION:MKOK\, burkelstraat\, Leopoldsburg\, 3970\, Belgium
ORGANIZER;CN="Wijkwerking Boskant":MAILTO:info@wijkwerkingboskant.be
END:VEVENT
END:VCALENDAR