BEGIN:VCALENDAR
VERSION:2.0
PRODID:-//wijkwerkingboskant.be - ECPv6.15.20//NONSGML v1.0//EN
CALSCALE:GREGORIAN
METHOD:PUBLISH
X-ORIGINAL-URL:https://wijkwerkingboskant.be
X-WR-CALDESC:Events voor wijkwerkingboskant.be
REFRESH-INTERVAL;VALUE=DURATION:PT1H
X-Robots-Tag:noindex
X-PUBLISHED-TTL:PT1H
BEGIN:VTIMEZONE
TZID:Europe/Brussels
BEGIN:DAYLIGHT
TZOFFSETFROM:+0100
TZOFFSETTO:+0200
TZNAME:CEST
DTSTART:20220327T010000
END:DAYLIGHT
BEGIN:STANDARD
TZOFFSETFROM:+0200
TZOFFSETTO:+0100
TZNAME:CET
DTSTART:20221030T010000
END:STANDARD
BEGIN:DAYLIGHT
TZOFFSETFROM:+0100
TZOFFSETTO:+0200
TZNAME:CEST
DTSTART:20230326T010000
END:DAYLIGHT
BEGIN:STANDARD
TZOFFSETFROM:+0200
TZOFFSETTO:+0100
TZNAME:CET
DTSTART:20231029T010000
END:STANDARD
BEGIN:DAYLIGHT
TZOFFSETFROM:+0100
TZOFFSETTO:+0200
TZNAME:CEST
DTSTART:20240331T010000
END:DAYLIGHT
BEGIN:STANDARD
TZOFFSETFROM:+0200
TZOFFSETTO:+0100
TZNAME:CET
DTSTART:20241027T010000
END:STANDARD
END:VTIMEZONE
BEGIN:VEVENT
DTSTART;TZID=Europe/Brussels:20231215T170000
DTEND;TZID=Europe/Brussels:20231215T210000
DTSTAMP:20260419T164109
CREATED:20231130T122848Z
LAST-MODIFIED:20231130T122848Z
UID:683-1702659600-1702674000@wijkwerkingboskant.be
SUMMARY:Kerstwandeling Methodeschool Ondersteboven
DESCRIPTION:De wijkschool organiseert weer een kerstwandeling. Lekker genieten van een wandeling door het bos en daarna genieten van een lekker hapje en drankje. \nMet medewerking van wijkwerking Boskant.
URL:https://wijkwerkingboskant.be/activiteit/kerstwandeling-methodeschool-ondersteboven/
LOCATION:methodeschool Ondersteboven\, Boskantstraat\, Leopoldsburg\, 3970\, Belgium
CATEGORIES:Methodeschool Ondersteboven
END:VEVENT
END:VCALENDAR