BEGIN:VCALENDAR
VERSION:2.0
PRODID:-//wijkwerkingboskant.be - ECPv6.15.20//NONSGML v1.0//EN
CALSCALE:GREGORIAN
METHOD:PUBLISH
X-WR-CALNAME:wijkwerkingboskant.be
X-ORIGINAL-URL:https://wijkwerkingboskant.be
X-WR-CALDESC:Events voor wijkwerkingboskant.be
REFRESH-INTERVAL;VALUE=DURATION:PT1H
X-Robots-Tag:noindex
X-PUBLISHED-TTL:PT1H
BEGIN:VTIMEZONE
TZID:Europe/Brussels
BEGIN:DAYLIGHT
TZOFFSETFROM:+0100
TZOFFSETTO:+0200
TZNAME:CEST
DTSTART:20230326T010000
END:DAYLIGHT
BEGIN:STANDARD
TZOFFSETFROM:+0200
TZOFFSETTO:+0100
TZNAME:CET
DTSTART:20231029T010000
END:STANDARD
BEGIN:DAYLIGHT
TZOFFSETFROM:+0100
TZOFFSETTO:+0200
TZNAME:CEST
DTSTART:20240331T010000
END:DAYLIGHT
BEGIN:STANDARD
TZOFFSETFROM:+0200
TZOFFSETTO:+0100
TZNAME:CET
DTSTART:20241027T010000
END:STANDARD
BEGIN:DAYLIGHT
TZOFFSETFROM:+0100
TZOFFSETTO:+0200
TZNAME:CEST
DTSTART:20250330T010000
END:DAYLIGHT
BEGIN:STANDARD
TZOFFSETFROM:+0200
TZOFFSETTO:+0100
TZNAME:CET
DTSTART:20251026T010000
END:STANDARD
END:VTIMEZONE
BEGIN:VEVENT
DTSTART;TZID=Europe/Brussels:20241031T180000
DTEND;TZID=Europe/Brussels:20241031T210000
DTSTAMP:20260422T120846
CREATED:20241003T173117Z
LAST-MODIFIED:20241003T173117Z
UID:1226-1730397600-1730408400@wijkwerkingboskant.be
SUMMARY:Halloweentocht Boskant 2024
DESCRIPTION:
URL:https://wijkwerkingboskant.be/activiteit/halloweentocht-boskant-2024/
ATTACH;FMTTYPE=image/jpeg:https://wijkwerkingboskant.be/wp-content/uploads/2024/09/colton-sturgeon-EFQlS6SL9uw-unsplash-scaled.jpg
ORGANIZER;CN="Wijkwerking Boskant":MAILTO:info@wijkwerkingboskant.be
END:VEVENT
END:VCALENDAR